BEGIN:VCALENDAR
VERSION:2.0
PRODID:-//RIGHTHERE//CALENDARIZE IT V3.2//EN
BEGIN:VTIMEZONE
TZID:Europe/Zurich
BEGIN:STANDARD
DTSTART:20251026T010000
TZOFFSETFROM:+0200
TZOFFSETTO:+0100
TZNAME:CET
END:STANDARD
BEGIN:DAYLIGHT
DTSTART:20260329T010000
TZOFFSETFROM:+0100
TZOFFSETTO:+0200
TZNAME:CEST
END:DAYLIGHT
BEGIN:STANDARD
DTSTART:20261025T010000
TZOFFSETFROM:+0200
TZOFFSETTO:+0100
TZNAME:CET
END:STANDARD
END:VTIMEZONE
BEGIN:VEVENT
UID:20386-events@kzehv.ch
DTSTART;VALUE=DATE:20241207
DTEND;VALUE=DATE:20241207
DTSTAMP;TZID=Europe/Zurich:20241203T124652
SUMMARY:Züri Kids Hockey – Chlausturnier
RRULE:FREQ=YEARLY;INTERVAL=1
URL:https://kzehv.ch/veranstaltung/zueri-kids-hockey-chlausturnier/
ORGANIZER;CN=KZEHV:
LOCATION:Dübendorf
END:VEVENT
END:VCALENDAR