BEGIN:VCALENDAR
VERSION:2.0
PRODID:-//RIGHTHERE//CALENDARIZE IT V3.2//EN
BEGIN:VTIMEZONE
TZID:Europe/Zurich
BEGIN:STANDARD
DTSTART:20251026T010000
TZOFFSETFROM:+0200
TZOFFSETTO:+0100
TZNAME:CET
END:STANDARD
BEGIN:DAYLIGHT
DTSTART:20260329T010000
TZOFFSETFROM:+0100
TZOFFSETTO:+0200
TZNAME:CEST
END:DAYLIGHT
BEGIN:STANDARD
DTSTART:20261025T010000
TZOFFSETFROM:+0200
TZOFFSETTO:+0100
TZNAME:CET
END:STANDARD
END:VTIMEZONE
BEGIN:VEVENT
UID:20388-events@kzehv.ch
DTSTART;VALUE=DATE:20250309
DTEND;VALUE=DATE:20250309
DTSTAMP;TZID=Europe/Zurich:20241203T125145
SUMMARY:Züri Kids Hockey – Finalturnier
RRULE:FREQ=YEARLY;INTERVAL=1
URL:https://kzehv.ch/veranstaltung/zueri-kids-hockey-finalturnier-2/
ORGANIZER;CN=KZEHV:
LOCATION:Dielsdorf
END:VEVENT
END:VCALENDAR